BEGIN:VCALENDAR

VERSION:2.0

PRODID:-//hacksw/handcal//NONSGML v1.0//EN

BEGIN:VEVENT

UID:2ed625b610016e7a59b37887f071b012

DTSTAMP:20260424T122330Z

DTSTART:20260523T000000

DTEND:20260523T000000

SUMMARY:R2-5074453 - 3 Steel Street, Redhead NSW 2290

LOCATION:3 Steel Street, Redhead NSW 2290

END:VEVENT

END:VCALENDAR