BEGIN:VCALENDAR

VERSION:2.0

PRODID:-//hacksw/handcal//NONSGML v1.0//EN

BEGIN:VEVENT

UID:b44abddbb2456fd35c5cb2a107ca69ee

DTSTAMP:20260421T141343Z

DTSTART:20260520T000000

DTEND:20260520T000000

SUMMARY:R2-4929681 - 27 Churnwood Drive, Fletcher NSW 2287

LOCATION:27 Churnwood Drive, Fletcher NSW 2287

END:VEVENT

END:VCALENDAR