BEGIN:VCALENDAR

VERSION:2.0

PRODID:-//hacksw/handcal//NONSGML v1.0//EN

BEGIN:VEVENT

UID:4e965e66e093c491fae91abacf73154a

DTSTAMP:20260424T140404Z

DTSTART:20260502T090000

DTEND:20260502T093000

SUMMARY:R2-5070721 - 25 Excalibur Parade, Valentine NSW 2280

LOCATION:25 Excalibur Parade, Valentine NSW 2280

END:VEVENT

END:VCALENDAR