BEGIN:VCALENDAR

VERSION:2.0

PRODID:-//hacksw/handcal//NONSGML v1.0//EN

BEGIN:VEVENT

UID:5bcd8a739b7d292133d8cf5f3a194391

DTSTAMP:20260424T135215Z

DTSTART:20260502T100000

DTEND:20260502T103000

SUMMARY:R2-5074453 - 3 Steel Street, Redhead NSW 2290

LOCATION:3 Steel Street, Redhead NSW 2290

END:VEVENT

END:VCALENDAR