BEGIN:VCALENDAR

VERSION:2.0

PRODID:-//hacksw/handcal//NONSGML v1.0//EN

BEGIN:VEVENT

UID:1493fdac9c9d37a5a00ee6ab138c560d

DTSTAMP:20260424T140410Z

DTSTART:20260502T110000

DTEND:20260502T113000

SUMMARY:R2-5075577 - 45 John Fisher Road, Belmont North NSW 2280

LOCATION:45 John Fisher Road, Belmont North NSW 2280

END:VEVENT

END:VCALENDAR