BEGIN:VCALENDAR

VERSION:2.0

PRODID:-//hacksw/handcal//NONSGML v1.0//EN

BEGIN:VEVENT

UID:70a5d9f31918e2a5af8d38f90be24053

DTSTAMP:20260423T094010Z

DTSTART:20260502T000000

DTEND:20260502T000000

SUMMARY:R2-4946039 - 65 Marks Point Road, Marks Point NSW 2280

LOCATION:65 Marks Point Road, Marks Point NSW 2280

END:VEVENT

END:VCALENDAR