BEGIN:VCALENDAR

VERSION:2.0

PRODID:-//hacksw/handcal//NONSGML v1.0//EN

BEGIN:VEVENT

UID:9b2d6e100dc50ed2c26bedcd42ef2976

DTSTAMP:20260424T135654Z

DTSTART:20260501T160000

DTEND:20260501T163000

SUMMARY:R2-5070721 - 25 Excalibur Parade, Valentine NSW 2280

LOCATION:25 Excalibur Parade, Valentine NSW 2280

END:VEVENT

END:VCALENDAR