BEGIN:VCALENDAR

VERSION:2.0

PRODID:-//hacksw/handcal//NONSGML v1.0//EN

BEGIN:VEVENT

UID:2759bdfd6016e1fa2d497915f77af664

DTSTAMP:20260424T135403Z

DTSTART:20260501T170000

DTEND:20260501T173000

SUMMARY:R2-5074453 - 3 Steel Street, Redhead NSW 2290

LOCATION:3 Steel Street, Redhead NSW 2290

END:VEVENT

END:VCALENDAR