BEGIN:VCALENDAR

VERSION:2.0

PRODID:-//hacksw/handcal//NONSGML v1.0//EN

BEGIN:VEVENT

UID:0428cce3e07346a06f9e2e862c79a513

DTSTAMP:20260422T082117Z

DTSTART:20260418T110000

DTEND:20260418T113000

SUMMARY:R2-4894926 - 175 Bowman Street, Swansea NSW 2281

LOCATION:175 Bowman Street, Swansea NSW 2281

END:VEVENT

END:VCALENDAR