BEGIN:VCALENDAR

VERSION:2.0

PRODID:-//hacksw/handcal//NONSGML v1.0//EN

BEGIN:VEVENT

UID:fd051316f375e17b06d60bc9c33988e4

DTSTAMP:20260421T085408Z

DTSTART:20260314T100000

DTEND:20260314T103000

SUMMARY:R2-4423833 - 89 The Corso, Gorokan NSW 2263

LOCATION:89 The Corso, Gorokan NSW 2263

END:VEVENT

END:VCALENDAR